BEGIN:VCALENDAR
VERSION:2.0
PRODID:-//eventon.com NONSGML v1.0//EN
BEGIN:VEVENT
UID:69eae4ecc4428
DTSTAMP:20260424T033508
DTSTART:20241016T110000Z
DTEND:20241016T130000Z
TZID:Europe/Amsterdam
LOCATION:
SUMMARY:STARS Talk: "Promoting Healthy Aging in Albania: The Role of Marketing"
DESCRIPTION: Speaker: Marsida Krasniqi. Aleksandër Moisiu University of Durrës (Albania) Join Zoom Meeting Hour: 13:00 (CET) Abstract: Healthy aging isn&#8217;t just about physical health; it also includes mental\,  social\,  and economic well-being. In Albania\,  families are changing\,  and older people may need more support. Marketing can play a big role here[..]\nhttps://starseu.org/events/stars-talk-marketing-healthy-ageing/
URL:https://starseu.org/events/stars-talk-marketing-healthy-ageing/
END:VEVENT
END:VCALENDAR