BEGIN:VCALENDAR
VERSION:2.0
PRODID:-//eventon.com NONSGML v1.0//EN
BEGIN:VEVENT
UID:69e5db8526f82
DTSTAMP:20260420T075341
DTSTART:20250617T100000Z
DTEND:20250617T110000Z
TZID:Europe/Amsterdam
LOCATION:
SUMMARY:Webinar on STARS EU Seed Grant for research and innovation
DESCRIPTION: &nbsp; Speaker: Carl-Fredrik Miles (University West\,  Sweden) Hour: 12\, 00 (CET) Join Zoom Meeting The STARS EU Funding Expert Group invites you to a webinar on STARS EU Seed Grant. The second call for these grants\,  which will run until March 2026\,  seeks to facilitate the preparation of competitive proposals for[..]\nhttps://starseu.org/events/webinar-on-stars-eu-seed-grant-for-research-and-innovation-2/
URL:https://starseu.org/events/webinar-on-stars-eu-seed-grant-for-research-and-innovation-2/
END:VEVENT
END:VCALENDAR